BEGIN:VCALENDAR
VERSION:2.0
METHOD:REQUEST
PRODID:-//PYVOBJECT//NONSGML Version 1//EN
BEGIN:VTIMEZONE
TZID:CET
BEGIN:STANDARD
DTSTART:20001029T030000
RRULE:FREQ=YEARLY;BYDAY=-1SU;BYMONTH=10
TZNAME:CET
TZOFFSETFROM:+0200
TZOFFSETTO:+0100
END:STANDARD
BEGIN:DAYLIGHT
DTSTART:20000326T020000
RRULE:FREQ=YEARLY;BYDAY=-1SU;BYMONTH=3
TZNAME:CEST
TZOFFSETFROM:+0100
TZOFFSETTO:+0200
END:DAYLIGHT
END:VTIMEZONE
BEGIN:VEVENT
UID:0rzuc_iQoYvumT1u@4psHlPKzRKLjxNe
DTSTART;TZID=CET:20210203T130000
DTEND;TZID=CET:20210203T160000
ATTENDEE;CUTYPE=INDIVIDUAL;ROLE=REQ-PARTICIPANT;PARTSTAT=NEEDS-ACTION;RSVP
 =TRUE:mailto:madiguzel@wmo.int
ATTENDEE;CUTYPE=INDIVIDUAL;ROLE=REQ-PARTICIPANT;PARTSTAT=NEEDS-ACTION;RSVP
 =TRUE:mailto:mherinkova@wmo.int
ATTENDEE;CUTYPE=INDIVIDUAL;ROLE=REQ-PARTICIPANT;PARTSTAT=NEEDS-ACTION;RSVP
 =TRUE:mailto:videoconference@wmo.int
CREATED:20201111T082513Z
DESCRIPTION:\nTo join the meeting on a computer or mobile phone: https://b
 luejeans.com/331162736/9592?src=calendarLink\n\n\n\nPhone Dial-in\n+1.408.
 740.7256 (US (San Jose))\n+1.888.240.2560 (US Toll Free)\nGlobal Numbers: 
 https://www.bluejeans.com/premium-numbers\n\nMeeting ID: 331 162 736\nPart
 icipant Passcode: 9592\n\nRoom System\n199.48.152.152 or bjn.vc\n\nMeeting
  ID: 331 162 736\nParticipant Passcode : 9592\n\n\nWant to test your video
  connection?\nhttps://bluejeans.com/111\n\n\n
DTSTAMP:20210125T072859Z
LAST-MODIFIED:20210125T072859Z
LOCATION:https://bluejeans.com/331162736/9592?src=calendarLink
ORGANIZER:mailto:cnf@wmo.int
RRULE:FREQ=DAILY;COUNT=2;INTERVAL=1;WKST=SU
SEQUENCE:1
STATUS:CONFIRMED
SUMMARY:(CNF) BJ / 03-04 Feb. 2021 / Capacity Development Panel
TRANSP:OPAQUE
END:VEVENT
END:VCALENDAR
